BEGIN:VCALENDAR
VERSION:2.0
PRODID:-//Mesa Hotline School - ECPv6.15.20//NONSGML v1.0//EN
CALSCALE:GREGORIAN
METHOD:PUBLISH
X-WR-CALNAME:Mesa Hotline School
X-ORIGINAL-URL:https://mesahotlineschool.com
X-WR-CALDESC:Events for Mesa Hotline School
REFRESH-INTERVAL;VALUE=DURATION:PT1H
X-Robots-Tag:noindex
X-PUBLISHED-TTL:PT1H
BEGIN:VTIMEZONE
TZID:America/Denver
BEGIN:DAYLIGHT
TZOFFSETFROM:-0700
TZOFFSETTO:-0600
TZNAME:MDT
DTSTART:20190310T090000
END:DAYLIGHT
BEGIN:STANDARD
TZOFFSETFROM:-0600
TZOFFSETTO:-0700
TZNAME:MST
DTSTART:20191103T080000
END:STANDARD
BEGIN:DAYLIGHT
TZOFFSETFROM:-0700
TZOFFSETTO:-0600
TZNAME:MDT
DTSTART:20200308T090000
END:DAYLIGHT
BEGIN:STANDARD
TZOFFSETFROM:-0600
TZOFFSETTO:-0700
TZNAME:MST
DTSTART:20201101T080000
END:STANDARD
BEGIN:DAYLIGHT
TZOFFSETFROM:-0700
TZOFFSETTO:-0600
TZNAME:MDT
DTSTART:20210314T090000
END:DAYLIGHT
BEGIN:STANDARD
TZOFFSETFROM:-0600
TZOFFSETTO:-0700
TZNAME:MST
DTSTART:20211107T080000
END:STANDARD
BEGIN:DAYLIGHT
TZOFFSETFROM:-0700
TZOFFSETTO:-0600
TZNAME:MDT
DTSTART:20220313T090000
END:DAYLIGHT
BEGIN:STANDARD
TZOFFSETFROM:-0600
TZOFFSETTO:-0700
TZNAME:MST
DTSTART:20221106T080000
END:STANDARD
BEGIN:DAYLIGHT
TZOFFSETFROM:-0700
TZOFFSETTO:-0600
TZNAME:MDT
DTSTART:20230312T090000
END:DAYLIGHT
BEGIN:STANDARD
TZOFFSETFROM:-0600
TZOFFSETTO:-0700
TZNAME:MST
DTSTART:20231105T080000
END:STANDARD
BEGIN:DAYLIGHT
TZOFFSETFROM:-0700
TZOFFSETTO:-0600
TZNAME:MDT
DTSTART:20240310T090000
END:DAYLIGHT
BEGIN:STANDARD
TZOFFSETFROM:-0600
TZOFFSETTO:-0700
TZNAME:MST
DTSTART:20241103T080000
END:STANDARD
END:VTIMEZONE
BEGIN:VEVENT
DTSTART;TZID=America/Denver:20230713T090000
DTEND;TZID=America/Denver:20230713T120000
DTSTAMP:20260424T134722
CREATED:20230210T234349Z
LAST-MODIFIED:20230210T234758Z
UID:14815-1689238800-1689249600@mesahotlineschool.com
SUMMARY:MHS Board Meeting 9 am
DESCRIPTION:Mesa Hotline School Board Meeting 9 am\nGrand Junction\, CO
URL:https://mesahotlineschool.com/event/mhs-board-meeting-9-am-2/
LOCATION:Doubletree Hotel\, 743 Horizon Drive\, Grand Junction\, CO\, 81506\, United States
CATEGORIES:Board Meeting
END:VEVENT
BEGIN:VEVENT
DTSTART;TZID=America/Denver:20230112T080000
DTEND;TZID=America/Denver:20230112T170000
DTSTAMP:20260424T134722
CREATED:20220928T190433Z
LAST-MODIFIED:20220928T190433Z
UID:13947-1673510400-1673542800@mesahotlineschool.com
SUMMARY:Board Meeting
DESCRIPTION:
URL:https://mesahotlineschool.com/event/board-meeting-3/
LOCATION:Doubletree Hotel\, 743 Horizon Drive\, Grand Junction\, CO\, 81506\, United States
CATEGORIES:Board Meeting
ATTACH;FMTTYPE=image/jpeg:https://mesahotlineschool.com/wp-content/uploads/2016/12/ClassImage.jpg
END:VEVENT
BEGIN:VEVENT
DTSTART;TZID=America/Denver:20220714T090000
DTEND;TZID=America/Denver:20220714T170000
DTSTAMP:20260424T134722
CREATED:20220119T165030Z
LAST-MODIFIED:20220119T165030Z
UID:12249-1657789200-1657818000@mesahotlineschool.com
SUMMARY:Board Meeting 9am
DESCRIPTION:MHS Board Meeting- 9 am – July 14\, 2022\nDouble Tree Hotel – Grand Junction\, CO
URL:https://mesahotlineschool.com/event/board-meeting-9am-2/
LOCATION:CO
CATEGORIES:Board Meeting
END:VEVENT
BEGIN:VEVENT
DTSTART;TZID=America/Denver:20220113T090000
DTEND;TZID=America/Denver:20220113T170000
DTSTAMP:20260424T134722
CREATED:20210811T182120Z
LAST-MODIFIED:20210811T182301Z
UID:12042-1642064400-1642093200@mesahotlineschool.com
SUMMARY:MHS Board Meeting 9 am
DESCRIPTION:Mesa Hotline School Board Meeting\nJanuary 13\, 2022 – 9 am – \nDouble Tree Hotel – Grand Junction\, CO
URL:https://mesahotlineschool.com/event/mhs-board-meeting-9-am/
LOCATION:Doubletree Hotel\, 743 Horizon Drive\, Grand Junction\, CO\, 81506\, United States
CATEGORIES:Board Meeting
END:VEVENT
BEGIN:VEVENT
DTSTART;TZID=America/Denver:20210715T090000
DTEND;TZID=America/Denver:20210715T090000
DTSTAMP:20260424T134722
CREATED:20210309T220123Z
LAST-MODIFIED:20210309T220123Z
UID:11474-1626339600-1626339600@mesahotlineschool.com
SUMMARY:Board Meeting 9AM
DESCRIPTION:MHS Board Meeting July 15\, 2021 at 9 am in Grand Junction.
URL:https://mesahotlineschool.com/event/board-meeting-9am/
LOCATION:CO
CATEGORIES:Board Meeting
END:VEVENT
BEGIN:VEVENT
DTSTART;TZID=America/Denver:20210308T100000
DTEND;TZID=America/Denver:20210308T100000
DTSTAMP:20260424T134722
CREATED:20210119T050156Z
LAST-MODIFIED:20210119T050156Z
UID:11394-1615197600-1615197600@mesahotlineschool.com
SUMMARY:Special Board Meeting
DESCRIPTION:March 8th\, 2021 10 a.m. Location TBA\nThis board meeting is being held to determine the feasibility of holding in-person classes in May of 2021.\nComments are welcome\, please have your company contact any Board member.
URL:https://mesahotlineschool.com/event/special-board-meeting/
LOCATION:CO
CATEGORIES:Board Meeting
END:VEVENT
BEGIN:VEVENT
DTSTART;VALUE=DATE:20210114
DTEND;VALUE=DATE:20210115
DTSTAMP:20260424T134722
CREATED:20170105T212242Z
LAST-MODIFIED:20201218T171750Z
UID:526-1610582400-1610668799@mesahotlineschool.com
SUMMARY:Board Meeting
DESCRIPTION:The next Board of Directors meeting will be held at the Doubletree Hotel in Grand Junction\, Colorado.
URL:https://mesahotlineschool.com/event/board-meeting/
LOCATION:Doubletree Hotel\, 743 Horizon Drive\, Grand Junction\, CO\, 81506\, United States
CATEGORIES:Board Meeting
ATTACH;FMTTYPE=image/jpeg:https://mesahotlineschool.com/wp-content/uploads/2016/12/ClassImage.jpg
END:VEVENT
BEGIN:VEVENT
DTSTART;TZID=America/Denver:20200723T090000
DTEND;TZID=America/Denver:20200723T170000
DTSTAMP:20260424T134722
CREATED:20200611T180514Z
LAST-MODIFIED:20200901T213414Z
UID:9727-1595494800-1595523600@mesahotlineschool.com
SUMMARY:Business Meeting and Board Meeting
DESCRIPTION:TO:              MESA HOTLINE SCHOOL MEMBERS\, MANUFACTURERS\, PARTICIPANTS AND INTERESTED PARTIES \nFROM:       Roger Grogg\, PRESIDENT \nDATE:         July 22nd – July 23rd\, 2020 \nSUBJECT:   JULY BUSINESS MEETING \nThe location and the date has been changed from Tri-State to Grand Junction for a larger space\, allowing distancing.  The later date may allow more freedom as the Governor may release some restrictions.   Please bring a mask! \nWe will be meeting at the Doubletree in Grand Junction. The address is 743 Horizon Drive Grand Junction\, CO 81506 \nThe journeyman testing will be on July. 22nd at 8:00 am.  We currently have 3 testers. \nThe Mesa Hotline School Board Meeting and the General Business Meeting will be held together on July 23rd at 9:00 am. \nHope to see you all there! \nThanks; Roger Grogg \nSee Agenda Here: 
URL:https://mesahotlineschool.com/event/business-meeting-and-annual-meeting/
LOCATION:Doubletree Hotel\, 743 Horizon Drive\, Grand Junction\, CO\, 81506\, United States
CATEGORIES:Board Meeting
END:VEVENT
BEGIN:VEVENT
DTSTART;TZID=America/Denver:20200201T090000
DTEND;TZID=America/Denver:20200201T120000
DTSTAMP:20260424T134722
CREATED:20180411T153227Z
LAST-MODIFIED:20200901T212717Z
UID:1812-1580547600-1580558400@mesahotlineschool.com
SUMMARY:Board Meeting
DESCRIPTION:The next Board of Directors meeting will be held at the Double Tree in Grand Junction\, Colorado.
URL:https://mesahotlineschool.com/event/board-meeting-2/
LOCATION:Doubletree Hotel\, 743 Horizon Drive\, Grand Junction\, CO\, 81506\, United States
CATEGORIES:Board Meeting
ATTACH;FMTTYPE=image/jpeg:https://mesahotlineschool.com/wp-content/uploads/2016/12/ClassImage.jpg
END:VEVENT
END:VCALENDAR