BEGIN:VCALENDAR
VERSION:2.0
PRODID:-//Mesa Hotline School - ECPv6.15.20//NONSGML v1.0//EN
CALSCALE:GREGORIAN
METHOD:PUBLISH
X-WR-CALNAME:Mesa Hotline School
X-ORIGINAL-URL:https://mesahotlineschool.com
X-WR-CALDESC:Events for Mesa Hotline School
REFRESH-INTERVAL;VALUE=DURATION:PT1H
X-Robots-Tag:noindex
X-PUBLISHED-TTL:PT1H
BEGIN:VTIMEZONE
TZID:America/Denver
BEGIN:DAYLIGHT
TZOFFSETFROM:-0700
TZOFFSETTO:-0600
TZNAME:MDT
DTSTART:20190310T090000
END:DAYLIGHT
BEGIN:STANDARD
TZOFFSETFROM:-0600
TZOFFSETTO:-0700
TZNAME:MST
DTSTART:20191103T080000
END:STANDARD
BEGIN:DAYLIGHT
TZOFFSETFROM:-0700
TZOFFSETTO:-0600
TZNAME:MDT
DTSTART:20200308T090000
END:DAYLIGHT
BEGIN:STANDARD
TZOFFSETFROM:-0600
TZOFFSETTO:-0700
TZNAME:MST
DTSTART:20201101T080000
END:STANDARD
BEGIN:DAYLIGHT
TZOFFSETFROM:-0700
TZOFFSETTO:-0600
TZNAME:MDT
DTSTART:20210314T090000
END:DAYLIGHT
BEGIN:STANDARD
TZOFFSETFROM:-0600
TZOFFSETTO:-0700
TZNAME:MST
DTSTART:20211107T080000
END:STANDARD
BEGIN:DAYLIGHT
TZOFFSETFROM:-0700
TZOFFSETTO:-0600
TZNAME:MDT
DTSTART:20220313T090000
END:DAYLIGHT
BEGIN:STANDARD
TZOFFSETFROM:-0600
TZOFFSETTO:-0700
TZNAME:MST
DTSTART:20221106T080000
END:STANDARD
BEGIN:DAYLIGHT
TZOFFSETFROM:-0700
TZOFFSETTO:-0600
TZNAME:MDT
DTSTART:20230312T090000
END:DAYLIGHT
BEGIN:STANDARD
TZOFFSETFROM:-0600
TZOFFSETTO:-0700
TZNAME:MST
DTSTART:20231105T080000
END:STANDARD
BEGIN:DAYLIGHT
TZOFFSETFROM:-0700
TZOFFSETTO:-0600
TZNAME:MDT
DTSTART:20240310T090000
END:DAYLIGHT
BEGIN:STANDARD
TZOFFSETFROM:-0600
TZOFFSETTO:-0700
TZNAME:MST
DTSTART:20241103T080000
END:STANDARD
END:VTIMEZONE
BEGIN:VEVENT
DTSTART;TZID=America/Denver:20230712T080000
DTEND;TZID=America/Denver:20230712T170000
DTSTAMP:20260424T122758
CREATED:20230118T215508Z
LAST-MODIFIED:20230118T220904Z
UID:14487-1689148800-1689181200@mesahotlineschool.com
SUMMARY:Journeyman Test Date
DESCRIPTION:Double Tree Hotel. Grand Junction\, CO 8 am
URL:https://mesahotlineschool.com/event/journeyman-test-date/
LOCATION:Doubletree Hotel\, 743 Horizon Drive\, Grand Junction\, CO\, 81506\, United States
CATEGORIES:Journeyman Certification Test
ATTACH;FMTTYPE=image/png:https://mesahotlineschool.com/wp-content/uploads/2016/07/Logo200.png
END:VEVENT
BEGIN:VEVENT
DTSTART;TZID=America/Denver:20230111T080000
DTEND;TZID=America/Denver:20230111T170000
DTSTAMP:20260424T122758
CREATED:20220928T190125Z
LAST-MODIFIED:20220928T190125Z
UID:13944-1673424000-1673456400@mesahotlineschool.com
SUMMARY:Journeyman Test
DESCRIPTION:Journeyman Testing 8 am\nDouble Tree Hotel – Grand Junction CO
URL:https://mesahotlineschool.com/event/journeyman-test/
LOCATION:Doubletree Hotel\, 743 Horizon Drive\, Grand Junction\, CO\, 81506\, United States
CATEGORIES:Journeyman Certification Test
ATTACH;FMTTYPE=image/jpeg:https://mesahotlineschool.com/wp-content/uploads/2016/12/ClassImage.jpg
END:VEVENT
BEGIN:VEVENT
DTSTART;TZID=America/Denver:20220713T080000
DTEND;TZID=America/Denver:20220713T170000
DTSTAMP:20260424T122758
CREATED:20220119T164825Z
LAST-MODIFIED:20220119T164825Z
UID:12248-1657699200-1657731600@mesahotlineschool.com
SUMMARY:Journeyman Testing 8 am
DESCRIPTION:Journeyman Testing 8 am\nDouble Tree Hotel – Grand Junction CO
URL:https://mesahotlineschool.com/event/journeyman-testing-8-am/
LOCATION:Doubletree Hotel\, 743 Horizon Drive\, Grand Junction\, CO\, 81506\, United States
CATEGORIES:Journeyman Certification Test
END:VEVENT
BEGIN:VEVENT
DTSTART;TZID=America/Denver:20220112T080000
DTEND;TZID=America/Denver:20220112T170000
DTSTAMP:20260424T122758
CREATED:20210811T181555Z
LAST-MODIFIED:20210811T181555Z
UID:12041-1641974400-1642006800@mesahotlineschool.com
SUMMARY:Journeyman Test 8 am
DESCRIPTION:Journeyman Test – January 12\, 2022 – 8 am \nDouble Tree Hotel – Grand Junction CO\n743 Horizon Dr\, Grand Junction\, CO 81506
URL:https://mesahotlineschool.com/event/journeyman-test-8-am/
LOCATION:Doubletree Hotel\, 743 Horizon Drive\, Grand Junction\, CO\, 81506\, United States
CATEGORIES:Journeyman Certification Test
END:VEVENT
BEGIN:VEVENT
DTSTART;TZID=America/Denver:20210714T080000
DTEND;TZID=America/Denver:20210714T170000
DTSTAMP:20260424T122758
CREATED:20210119T044200Z
LAST-MODIFIED:20210309T221045Z
UID:11393-1626249600-1626282000@mesahotlineschool.com
SUMMARY:Journeyman Certification Test-Grand Junction
DESCRIPTION:The Journeyman Certification Test begins at 8 A.M.\, don’t miss out! Location Grand Junction\, CO \nDownload Test Application
URL:https://mesahotlineschool.com/event/journeyman-certification-test-3/
LOCATION:CO
CATEGORIES:Journeyman Certification Test
END:VEVENT
BEGIN:VEVENT
DTSTART;TZID=America/Denver:20210113T080000
DTEND;TZID=America/Denver:20210113T170000
DTSTAMP:20260424T122758
CREATED:20180411T152846Z
LAST-MODIFIED:20210119T044057Z
UID:1811-1610524800-1610557200@mesahotlineschool.com
SUMMARY:Journeyman Certification Test
DESCRIPTION:The Journeyman Certification Test begins at 8 A.M.\, don’t miss out! Location TBA \nDownload Test Application
URL:https://mesahotlineschool.com/event/journeyman-certification-test-2/
LOCATION:Doubletree Hotel\, 743 Horizon Drive\, Grand Junction\, CO\, 81506\, United States
CATEGORIES:Journeyman Certification Test
ATTACH;FMTTYPE=image/jpeg:https://mesahotlineschool.com/wp-content/uploads/2016/12/ClassImage.jpg
END:VEVENT
BEGIN:VEVENT
DTSTART;TZID=America/Denver:20200722T080000
DTEND;TZID=America/Denver:20200722T170000
DTSTAMP:20260424T122758
CREATED:20200611T175914Z
LAST-MODIFIED:20200901T213114Z
UID:9725-1595404800-1595437200@mesahotlineschool.com
SUMMARY:2021 Journeyman Test Date
DESCRIPTION:Visit this page for more information and application:
URL:https://mesahotlineschool.com/event/2020-journeyman-test-date/
LOCATION:Doubletree Hotel\, 743 Horizon Drive\, Grand Junction\, CO\, 81506\, United States
CATEGORIES:Journeyman Certification Test
END:VEVENT
BEGIN:VEVENT
DTSTART;TZID=America/Denver:20200108T080000
DTEND;TZID=America/Denver:20200108T170000
DTSTAMP:20260424T122758
CREATED:20170105T212103Z
LAST-MODIFIED:20200901T213238Z
UID:523-1578470400-1578502800@mesahotlineschool.com
SUMMARY:Journeyman Certification Test
DESCRIPTION:The Journeyman Certification Test begins at 8 A.M.\, don’t miss out! The test will be given at the Doubletree Hotel in Grand Junction\, CO \nDownload Test Application
URL:https://mesahotlineschool.com/event/journeyman-certification-test/
LOCATION:Doubletree Hotel\, 743 Horizon Drive\, Grand Junction\, CO\, 81506\, United States
CATEGORIES:Journeyman Certification Test
ATTACH;FMTTYPE=image/jpeg:https://mesahotlineschool.com/wp-content/uploads/2016/12/ClassImage.jpg
END:VEVENT
END:VCALENDAR