BEGIN:VCALENDAR
VERSION:2.0
PRODID:-//Mesa Hotline School - ECPv6.15.20//NONSGML v1.0//EN
CALSCALE:GREGORIAN
METHOD:PUBLISH
X-ORIGINAL-URL:https://mesahotlineschool.com
X-WR-CALDESC:Events for Mesa Hotline School
REFRESH-INTERVAL;VALUE=DURATION:PT1H
X-Robots-Tag:noindex
X-PUBLISHED-TTL:PT1H
BEGIN:VTIMEZONE
TZID:America/Denver
BEGIN:DAYLIGHT
TZOFFSETFROM:-0700
TZOFFSETTO:-0600
TZNAME:MDT
DTSTART:20250309T090000
END:DAYLIGHT
BEGIN:STANDARD
TZOFFSETFROM:-0600
TZOFFSETTO:-0700
TZNAME:MST
DTSTART:20251102T080000
END:STANDARD
BEGIN:DAYLIGHT
TZOFFSETFROM:-0700
TZOFFSETTO:-0600
TZNAME:MDT
DTSTART:20260308T090000
END:DAYLIGHT
BEGIN:STANDARD
TZOFFSETFROM:-0600
TZOFFSETTO:-0700
TZNAME:MST
DTSTART:20261101T080000
END:STANDARD
BEGIN:DAYLIGHT
TZOFFSETFROM:-0700
TZOFFSETTO:-0600
TZNAME:MDT
DTSTART:20270314T090000
END:DAYLIGHT
BEGIN:STANDARD
TZOFFSETFROM:-0600
TZOFFSETTO:-0700
TZNAME:MST
DTSTART:20271107T080000
END:STANDARD
END:VTIMEZONE
BEGIN:VEVENT
DTSTART;TZID=America/Denver:20260708T080000
DTEND;TZID=America/Denver:20260708T170000
DTSTAMP:20260424T110742
CREATED:20230718T215352Z
LAST-MODIFIED:20260112T180341Z
UID:15213-1783497600-1783530000@mesahotlineschool.com
SUMMARY:Journeyman Test Date
DESCRIPTION:Time: 8:00am – 5:00pm \nDouble Tree Hotel\nGrand Junction\, CO
URL:https://mesahotlineschool.com/event/journeyman-test-date-2/
LOCATION:Doubletree Hotel\, 743 Horizon Drive\, Grand Junction\, CO\, 81506\, United States
CATEGORIES:Journeyman Certification Test
ATTACH;FMTTYPE=image/jpeg:https://mesahotlineschool.com/wp-content/uploads/2016/12/ClassImage.jpg
END:VEVENT
END:VCALENDAR