BEGIN:VCALENDAR
VERSION:2.0
PRODID:-//Mesa Hotline School - ECPv6.15.20//NONSGML v1.0//EN
CALSCALE:GREGORIAN
METHOD:PUBLISH
X-ORIGINAL-URL:https://mesahotlineschool.com
X-WR-CALDESC:Events for Mesa Hotline School
REFRESH-INTERVAL;VALUE=DURATION:PT1H
X-Robots-Tag:noindex
X-PUBLISHED-TTL:PT1H
BEGIN:VTIMEZONE
TZID:America/Denver
BEGIN:DAYLIGHT
TZOFFSETFROM:-0700
TZOFFSETTO:-0600
TZNAME:MDT
DTSTART:20250309T090000
END:DAYLIGHT
BEGIN:STANDARD
TZOFFSETFROM:-0600
TZOFFSETTO:-0700
TZNAME:MST
DTSTART:20251102T080000
END:STANDARD
BEGIN:DAYLIGHT
TZOFFSETFROM:-0700
TZOFFSETTO:-0600
TZNAME:MDT
DTSTART:20260308T090000
END:DAYLIGHT
BEGIN:STANDARD
TZOFFSETFROM:-0600
TZOFFSETTO:-0700
TZNAME:MST
DTSTART:20261101T080000
END:STANDARD
BEGIN:DAYLIGHT
TZOFFSETFROM:-0700
TZOFFSETTO:-0600
TZNAME:MDT
DTSTART:20270314T090000
END:DAYLIGHT
BEGIN:STANDARD
TZOFFSETFROM:-0600
TZOFFSETTO:-0700
TZNAME:MST
DTSTART:20271107T080000
END:STANDARD
END:VTIMEZONE
BEGIN:VEVENT
DTSTART;TZID=America/Denver:20260410T080000
DTEND;TZID=America/Denver:20260410T120000
DTSTAMP:20260424T135958
CREATED:20230718T215729Z
LAST-MODIFIED:20260112T184219Z
UID:15216-1775808000-1775822400@mesahotlineschool.com
SUMMARY:CMU Tech Lineworker Program Student Assessment
DESCRIPTION:CMU Tech Lineworker Program Student Assessment\n(Previously known as WCCC) \nTime: 8AM – 12:00pm \nLocation: 441 29 Rd.\nGrand Junction\, CO 81504
URL:https://mesahotlineschool.com/event/wccc-lineworker-program-student-assessments-3/
LOCATION:CMU Tech Lineworker Campus\, 441 29 Rd\, Grand Junction\, CO\, 81501\, United States
CATEGORIES:Lineworker Student Assessment
ATTACH;FMTTYPE=image/jpeg:https://mesahotlineschool.com/wp-content/uploads/2016/12/ClassImage.jpg
END:VEVENT
BEGIN:VEVENT
DTSTART;TZID=America/Denver:20260227T080000
DTEND;TZID=America/Denver:20260227T120000
DTSTAMP:20260424T135958
CREATED:20230718T215828Z
LAST-MODIFIED:20260112T184153Z
UID:15217-1772179200-1772193600@mesahotlineschool.com
SUMMARY:CMU Tech Lineworker Program Student Assessment
DESCRIPTION:CMU Tech Lineworker Program Student Assessment\n(Previously known as WCCC) \nTime: 8AM – 12:00pm \nLocation: 441 29 Rd.\nGrand Junction\, CO 81504
URL:https://mesahotlineschool.com/event/wccc-lineworker-program-student-assessments-4/
LOCATION:CMU Tech Lineworker Campus\, 441 29 Rd\, Grand Junction\, CO\, 81501\, United States
CATEGORIES:Lineworker Student Assessment
ATTACH;FMTTYPE=image/jpeg:https://mesahotlineschool.com/wp-content/uploads/2016/12/ClassImage.jpg
END:VEVENT
END:VCALENDAR